BEGIN:VCALENDAR
VERSION:2.0
PRODID:-//Downton Sports Complex - ECPv5.16.4//NONSGML v1.0//EN
CALSCALE:GREGORIAN
METHOD:PUBLISH
X-ORIGINAL-URL:https://bwsca.co.uk
X-WR-CALDESC:Events for Downton Sports Complex
REFRESH-INTERVAL;VALUE=DURATION:PT1H
X-Robots-Tag:noindex
X-PUBLISHED-TTL:PT1H
BEGIN:VTIMEZONE
TZID:UTC
BEGIN:STANDARD
TZOFFSETFROM:+0000
TZOFFSETTO:+0000
TZNAME:UTC
DTSTART:20220101T000000
END:STANDARD
END:VTIMEZONE
BEGIN:VEVENT
DTSTART;TZID=UTC:20220813T130000
DTEND;TZID=UTC:20220813T180000
DTSTAMP:20260425T222134
CREATED:20220811T114956Z
LAST-MODIFIED:20220811T114956Z
UID:1083-1660395600-1660413600@bwsca.co.uk
SUMMARY:Football Club -Match
DESCRIPTION:
URL:https://bwsca.co.uk/index.php/event/football-club-match/
LOCATION:BWSCA Kitchen
ORGANIZER;CN="Dawn%20%28Secretary%20DFC%29":MAILTO:secretary@downtonfc.com
END:VEVENT
BEGIN:VEVENT
DTSTART;TZID=UTC:20220816T180000
DTEND;TZID=UTC:20220816T220000
DTSTAMP:20260425T222134
CREATED:20220811T115148Z
LAST-MODIFIED:20220811T115148Z
UID:1085-1660672800-1660687200@bwsca.co.uk
SUMMARY:Football Club - Match
DESCRIPTION:
URL:https://bwsca.co.uk/index.php/event/football-club-match-2/
LOCATION:BWSCA Kitchen
ORGANIZER;CN="Dawn%20%28Secretary%20DFC%29":MAILTO:secretary@downtonfc.com
END:VEVENT
BEGIN:VEVENT
DTSTART;TZID=UTC:20220823T173000
DTEND;TZID=UTC:20220823T220000
DTSTAMP:20260425T222134
CREATED:20220822T172159Z
LAST-MODIFIED:20220822T172159Z
UID:1124-1661275800-1661292000@bwsca.co.uk
SUMMARY:Wessex league cup match Tuesday evening
DESCRIPTION:
URL:https://bwsca.co.uk/index.php/event/wessex-league-cup-match-tuesday-evening/
LOCATION:BWSCA Kitchen
ORGANIZER;CN="Dawn%20%28Secretary%20DFC%29":MAILTO:secretary@downtonfc.com
END:VEVENT
BEGIN:VEVENT
DTSTART;TZID=UTC:20220830T180000
DTEND;TZID=UTC:20220830T220000
DTSTAMP:20260425T222134
CREATED:20220811T115244Z
LAST-MODIFIED:20220811T115244Z
UID:1087-1661882400-1661896800@bwsca.co.uk
SUMMARY:Football Club - Match
DESCRIPTION:
URL:https://bwsca.co.uk/index.php/event/football-club-match-3/
LOCATION:BWSCA Kitchen
ORGANIZER;CN="Dawn%20%28Secretary%20DFC%29":MAILTO:secretary@downtonfc.com
END:VEVENT
END:VCALENDAR