BEGIN:VCALENDAR
VERSION:2.0
PRODID:-//Downton Sports Complex - ECPv5.16.4//NONSGML v1.0//EN
CALSCALE:GREGORIAN
METHOD:PUBLISH
X-WR-CALNAME:Downton Sports Complex
X-ORIGINAL-URL:https://bwsca.co.uk
X-WR-CALDESC:Events for Downton Sports Complex
REFRESH-INTERVAL;VALUE=DURATION:PT1H
X-Robots-Tag:noindex
X-PUBLISHED-TTL:PT1H
BEGIN:VTIMEZONE
TZID:UTC
BEGIN:STANDARD
TZOFFSETFROM:+0000
TZOFFSETTO:+0000
TZNAME:UTC
DTSTART:20210101T000000
END:STANDARD
END:VTIMEZONE
BEGIN:VEVENT
DTSTART;TZID=UTC:20211111T180000
DTEND;TZID=UTC:20211111T213000
DTSTAMP:20260423T090201
CREATED:20210913T102642Z
LAST-MODIFIED:20210913T102642Z
UID:997-1636653600-1636666200@bwsca.co.uk
SUMMARY:Downton Link AGM
DESCRIPTION:
URL:https://bwsca.co.uk/index.php/event/downton-link-agm/
LOCATION:BWSCA Kitchen
END:VEVENT
BEGIN:VEVENT
DTSTART;TZID=UTC:20211106T130000
DTEND;TZID=UTC:20211106T180000
DTSTAMP:20260423T090201
CREATED:20210709T030733Z
LAST-MODIFIED:20210811T085708Z
UID:905-1636203600-1636221600@bwsca.co.uk
SUMMARY:DFC Match Div1 vs Millbrook Sat 3pm
DESCRIPTION:
URL:https://bwsca.co.uk/index.php/event/dfc-match-div1-vs-millbrook-sat-3pm/
LOCATION:BWSCA Kitchen
ORGANIZER;CN="Dawn%20%28Secretary%20DFC%29":MAILTO:secretary@downtonfc.com
END:VEVENT
BEGIN:VEVENT
DTSTART;TZID=UTC:20211101T120000
DTEND;TZID=UTC:20211102T120000
DTSTAMP:20260423T090201
CREATED:20210803T134009Z
LAST-MODIFIED:20210806T150725Z
UID:951-1635768000-1635854400@bwsca.co.uk
SUMMARY:Downton Lodge Monday Evening Event
DESCRIPTION:
URL:https://bwsca.co.uk/index.php/event/downton-lodge-monday-evening-event-2/
LOCATION:BWSCA Kitchen
END:VEVENT
BEGIN:VEVENT
DTSTART;TZID=UTC:20211023T130000
DTEND;TZID=UTC:20211023T180000
DTSTAMP:20260423T090201
CREATED:20210709T030656Z
LAST-MODIFIED:20210811T085731Z
UID:903-1634994000-1635012000@bwsca.co.uk
SUMMARY:DFC Match Div1 vs Laverstock Ford Sat 3pm
DESCRIPTION:
URL:https://bwsca.co.uk/index.php/event/dfc-match-div1-vs-laverstock-ford-sat-3pm/
LOCATION:BWSCA Kitchen
ORGANIZER;CN="Dawn%20%28Secretary%20DFC%29":MAILTO:secretary@downtonfc.com
END:VEVENT
BEGIN:VEVENT
DTSTART;TZID=UTC:20211012T173000
DTEND;TZID=UTC:20211012T230000
DTSTAMP:20260423T090201
CREATED:20211010T140922Z
LAST-MODIFIED:20211010T140922Z
UID:1014-1634059800-1634079600@bwsca.co.uk
SUMMARY:DFC Tue Football Evening Match
DESCRIPTION:
URL:https://bwsca.co.uk/index.php/event/dfc-tue-football-evening-match/
LOCATION:BWSCA Kitchen
ORGANIZER;CN="Dawn%20%28Secretary%20DFC%29":MAILTO:secretary@downtonfc.com
END:VEVENT
BEGIN:VEVENT
DTSTART;TZID=UTC:20211009T130000
DTEND;TZID=UTC:20211009T180000
DTSTAMP:20260423T090201
CREATED:20210709T030609Z
LAST-MODIFIED:20210811T085751Z
UID:901-1633784400-1633802400@bwsca.co.uk
SUMMARY:DFC Match Div1 vs Petersfield Town Sat 3pm
DESCRIPTION:
URL:https://bwsca.co.uk/index.php/event/dfc-match-div1-vs-petersfield-town-sat-3pm/
LOCATION:BWSCA Kitchen
ORGANIZER;CN="Dawn%20%28Secretary%20DFC%29":MAILTO:secretary@downtonfc.com
END:VEVENT
BEGIN:VEVENT
DTSTART;TZID=UTC:20211005T170000
DTEND;TZID=UTC:20211005T230000
DTSTAMP:20260423T090201
CREATED:20211008T122502Z
LAST-MODIFIED:20211008T122658Z
UID:1012-1633453200-1633474800@bwsca.co.uk
SUMMARY:DFC Football Tuesday Evening match
DESCRIPTION:
URL:https://bwsca.co.uk/index.php/event/dfc-football-tuesday-evening-match/
LOCATION:BWSCA Kitchen
ORGANIZER;CN="Dawn%20%28Secretary%20DFC%29":MAILTO:secretary@downtonfc.com
END:VEVENT
BEGIN:VEVENT
DTSTART;TZID=UTC:20211004T120000
DTEND;TZID=UTC:20211005T120000
DTSTAMP:20260423T090201
CREATED:20210803T133923Z
LAST-MODIFIED:20210803T133923Z
UID:949-1633348800-1633435200@bwsca.co.uk
SUMMARY:Downton Lodge Monday Evening Event
DESCRIPTION:
URL:https://bwsca.co.uk/index.php/event/downton-lodge-monday-evening-event/
LOCATION:BWSCA Kitchen
END:VEVENT
BEGIN:VEVENT
DTSTART;TZID=UTC:20211002T130000
DTEND;TZID=UTC:20211002T180000
DTSTAMP:20260423T090201
CREATED:20210709T031132Z
LAST-MODIFIED:20210811T085816Z
UID:913-1633179600-1633197600@bwsca.co.uk
SUMMARY:DFC Match Div1 vs Totton & Eling Sat 3pm
DESCRIPTION:
URL:https://bwsca.co.uk/index.php/event/dfc-match-div1-vs-totton-eling-sat-3pm/
LOCATION:BWSCA Kitchen
ORGANIZER;CN="Dawn%20%28Secretary%20DFC%29":MAILTO:secretary@downtonfc.com
END:VEVENT
BEGIN:VEVENT
DTSTART;TZID=UTC:20210921T180000
DTEND;TZID=UTC:20210921T220000
DTSTAMP:20260423T090201
CREATED:20210907T093247Z
LAST-MODIFIED:20210907T093247Z
UID:989-1632247200-1632261600@bwsca.co.uk
SUMMARY:DFC Evening Match Tuesday
DESCRIPTION:
URL:https://bwsca.co.uk/index.php/event/dfc-evening-match-tuesday-2/
LOCATION:BWSCA Kitchen
ORGANIZER;CN="Dawn%20%28Secretary%20DFC%29":MAILTO:secretary@downtonfc.com
END:VEVENT
BEGIN:VEVENT
DTSTART;TZID=UTC:20210918T130000
DTEND;TZID=UTC:20210918T180000
DTSTAMP:20260423T090201
CREATED:20210709T030522Z
LAST-MODIFIED:20210811T090406Z
UID:899-1631970000-1631988000@bwsca.co.uk
SUMMARY:DFC Match Div1 vs Fawley AFC Sat 3pm
DESCRIPTION:
URL:https://bwsca.co.uk/index.php/event/dfc-match-div1-vs-fawley-afc-sat-3pm/
LOCATION:BWSCA Kitchen
ORGANIZER;CN="Dawn%20%28Secretary%20DFC%29":MAILTO:secretary@downtonfc.com
END:VEVENT
BEGIN:VEVENT
DTSTART;TZID=UTC:20210914T180000
DTEND;TZID=UTC:20210914T220000
DTSTAMP:20260423T090201
CREATED:20210907T093159Z
LAST-MODIFIED:20210907T093159Z
UID:987-1631642400-1631656800@bwsca.co.uk
SUMMARY:DFC Evening Match Tuesday
DESCRIPTION:
URL:https://bwsca.co.uk/index.php/event/dfc-evening-match-tuesday/
LOCATION:BWSCA Kitchen
ORGANIZER;CN="Dawn%20%28Secretary%20DFC%29":MAILTO:secretary@downtonfc.com
END:VEVENT
BEGIN:VEVENT
DTSTART;TZID=UTC:20210914T093000
DTEND;TZID=UTC:20210914T120000
DTSTAMP:20260423T090201
CREATED:20210913T102600Z
LAST-MODIFIED:20210913T102600Z
UID:995-1631611800-1631620800@bwsca.co.uk
SUMMARY:Move and Make Music (Outreach group – Dementia/Memory issues)
DESCRIPTION:
URL:https://bwsca.co.uk/index.php/event/move-and-make-music-outreach-group-dementia-memory-issues/
LOCATION:BWSCA Kitchen
END:VEVENT
BEGIN:VEVENT
DTSTART;TZID=UTC:20210912T090000
DTEND;TZID=UTC:20210912T140000
DTSTAMP:20260423T090201
CREATED:20210913T103016Z
LAST-MODIFIED:20210913T103016Z
UID:1001-1631437200-1631455200@bwsca.co.uk
SUMMARY:DFC Booking
DESCRIPTION:Pizza being cooked by Andy Townsend
URL:https://bwsca.co.uk/index.php/event/dfc-booking/
LOCATION:BWSCA Kitchen
END:VEVENT
BEGIN:VEVENT
DTSTART;TZID=UTC:20210911T183000
DTEND;TZID=UTC:20210911T223000
DTSTAMP:20260423T090201
CREATED:20210913T102412Z
LAST-MODIFIED:20210913T102412Z
UID:991-1631385000-1631399400@bwsca.co.uk
SUMMARY:Dan Peat’s 40th Birthday Party
DESCRIPTION:
URL:https://bwsca.co.uk/index.php/event/dan-peats-40th-birthday-party/
LOCATION:BWSCA Kitchen
END:VEVENT
BEGIN:VEVENT
DTSTART;TZID=UTC:20210910T163000
DTEND;TZID=UTC:20210910T210000
DTSTAMP:20260423T090201
CREATED:20210913T102503Z
LAST-MODIFIED:20210913T102503Z
UID:993-1631291400-1631307600@bwsca.co.uk
SUMMARY:DFC Youth Development Social Evening
DESCRIPTION:
URL:https://bwsca.co.uk/index.php/event/dfc-youth-development-social-evening/
LOCATION:BWSCA Kitchen
END:VEVENT
BEGIN:VEVENT
DTSTART;TZID=UTC:20210906T120000
DTEND;TZID=UTC:20210907T120000
DTSTAMP:20260423T090201
CREATED:20210803T133724Z
LAST-MODIFIED:20210803T134143Z
UID:947-1630929600-1631016000@bwsca.co.uk
SUMMARY:Downton Lodge Monday Evening Event
DESCRIPTION:
URL:https://bwsca.co.uk/index.php/event/downton-lodge-monday-evening/
LOCATION:BWSCA Kitchen
END:VEVENT
BEGIN:VEVENT
DTSTART;TZID=UTC:20210901T120000
DTEND;TZID=UTC:20210901T170000
DTSTAMP:20260423T090201
CREATED:20210827T094506Z
LAST-MODIFIED:20210827T094506Z
UID:985-1630497600-1630515600@bwsca.co.uk
SUMMARY:Wake for George Witt
DESCRIPTION:
URL:https://bwsca.co.uk/index.php/event/wake-for-george-witt/
LOCATION:BWSCA Kitchen
END:VEVENT
BEGIN:VEVENT
DTSTART;TZID=UTC:20210828T130000
DTEND;TZID=UTC:20210828T173000
DTSTAMP:20260423T090201
CREATED:20210709T030437Z
LAST-MODIFIED:20210709T030437Z
UID:897-1630155600-1630171800@bwsca.co.uk
SUMMARY:DFC Match Div1 vs Newport IOW Sat 3pm
DESCRIPTION:
URL:https://bwsca.co.uk/index.php/event/dfc-match-div1-vs-newport-iow-sat-3pm/
LOCATION:BWSCA Kitchen
ORGANIZER;CN="Dawn%20%28Secretary%20DFC%29":MAILTO:secretary@downtonfc.com
END:VEVENT
BEGIN:VEVENT
DTSTART;TZID=UTC:20210826T083000
DTEND;TZID=UTC:20210826T170000
DTSTAMP:20260423T090201
CREATED:20210826T084321Z
LAST-MODIFIED:20210826T084321Z
UID:982-1629966600-1629997200@bwsca.co.uk
SUMMARY:Wake for Hazel Smith’s Daughter
DESCRIPTION:Caterer (Amy Sanger of Cathedral Catering) arriving at 08:30 to deliver and set out cold finger buffet; I understand that Caterer will be providing plates\, napkins etc.\nHave been requested to provide hot water\, via urns\, for teas/coffees.  Additionally\, cups\, saucers\, spoons.
URL:https://bwsca.co.uk/index.php/event/wake-for-hazel-smiths-daughter/
LOCATION:BWSCA Kitchen
END:VEVENT
BEGIN:VEVENT
DTSTART;TZID=UTC:20210821T173000
DTEND;TZID=UTC:20210822T120000
DTSTAMP:20260423T090201
CREATED:20210803T133537Z
LAST-MODIFIED:20210803T134122Z
UID:944-1629567000-1629633600@bwsca.co.uk
SUMMARY:Downton Lodge Saturday Evening Event
DESCRIPTION:
URL:https://bwsca.co.uk/index.php/event/downton-lodge-saturday-evening/
LOCATION:BWSCA Kitchen
END:VEVENT
BEGIN:VEVENT
DTSTART;TZID=UTC:20210821T130000
DTEND;TZID=UTC:20210821T173000
DTSTAMP:20260423T090201
CREATED:20210709T030242Z
LAST-MODIFIED:20210709T030242Z
UID:894-1629550800-1629567000@bwsca.co.uk
SUMMARY:DFC Match Div1 vs Andover Town Sat 3pm
DESCRIPTION:
URL:https://bwsca.co.uk/index.php/event/dfc-match-div1-vs-andover-town-sat-3pm/
LOCATION:BWSCA Kitchen
ORGANIZER;CN="Dawn%20%28Secretary%20DFC%29":MAILTO:secretary@downtonfc.com
END:VEVENT
BEGIN:VEVENT
DTSTART;TZID=UTC:20210807T130000
DTEND;TZID=UTC:20210807T173000
DTSTAMP:20260423T090201
CREATED:20210709T025940Z
LAST-MODIFIED:20210709T025940Z
UID:889-1628341200-1628357400@bwsca.co.uk
SUMMARY:DFC Match Div1 vs Folland Sports Sat 3pm
DESCRIPTION:
URL:https://bwsca.co.uk/index.php/event/dfc-match-div1-vs-folland-sports-sat-3pm/
LOCATION:BWSCA Kitchen
END:VEVENT
END:VCALENDAR