BEGIN:VCALENDAR
VERSION:2.0
PRODID:-//Downton Sports Complex - ECPv5.16.4//NONSGML v1.0//EN
CALSCALE:GREGORIAN
METHOD:PUBLISH
X-WR-CALNAME:Downton Sports Complex
X-ORIGINAL-URL:https://bwsca.co.uk
X-WR-CALDESC:Events for Downton Sports Complex
REFRESH-INTERVAL;VALUE=DURATION:PT1H
X-Robots-Tag:noindex
X-PUBLISHED-TTL:PT1H
BEGIN:VTIMEZONE
TZID:UTC
BEGIN:STANDARD
TZOFFSETFROM:+0000
TZOFFSETTO:+0000
TZNAME:UTC
DTSTART:20210101T000000
END:STANDARD
END:VTIMEZONE
BEGIN:VEVENT
DTSTART;TZID=UTC:20220404T120000
DTEND;TZID=UTC:20220405T120000
DTSTAMP:20260418T192159
CREATED:20210811T090945Z
LAST-MODIFIED:20210811T090945Z
UID:966-1649073600-1649160000@bwsca.co.uk
SUMMARY:DOWNTON LODGE MONDAY EVENING EVENT
DESCRIPTION:
URL:https://bwsca.co.uk/index.php/event/downton-lodge-monday-evening-event-7/
LOCATION:BWSCA Kitchen
END:VEVENT
BEGIN:VEVENT
DTSTART;TZID=UTC:20220326T130000
DTEND;TZID=UTC:20220326T180000
DTSTAMP:20260418T192159
CREATED:20210709T031629Z
LAST-MODIFIED:20210811T085314Z
UID:925-1648299600-1648317600@bwsca.co.uk
SUMMARY:DFC Match Div1 vs East Cowes Vics Sat 3pm
DESCRIPTION:
URL:https://bwsca.co.uk/index.php/event/dfc-match-div1-vs-east-cowes-vics-sat-3pm/
LOCATION:BWSCA Kitchen
ORGANIZER;CN="Dawn%20%28Secretary%20DFC%29":MAILTO:secretary@downtonfc.com
END:VEVENT
BEGIN:VEVENT
DTSTART;TZID=UTC:20220324T183000
DTEND;TZID=UTC:20220324T210000
DTSTAMP:20260418T192159
CREATED:20220329T174831Z
LAST-MODIFIED:20220329T174831Z
UID:1049-1648146600-1648155600@bwsca.co.uk
SUMMARY:Thursday U18 DFC football evening
DESCRIPTION:
URL:https://bwsca.co.uk/index.php/event/thursday-u18-dfc-football-evening/
LOCATION:BWSCA Kitchen
END:VEVENT
BEGIN:VEVENT
DTSTART;TZID=UTC:20220312T130000
DTEND;TZID=UTC:20220312T180000
DTSTAMP:20260418T192159
CREATED:20210709T031544Z
LAST-MODIFIED:20210811T085330Z
UID:923-1647090000-1647108000@bwsca.co.uk
SUMMARY:DFC Match Div1 vs Ash United Sat 3pm
DESCRIPTION:
URL:https://bwsca.co.uk/index.php/event/dfc-match-div1-vs-ash-united-sat-3pm/
LOCATION:BWSCA Kitchen
ORGANIZER;CN="Dawn%20%28Secretary%20DFC%29":MAILTO:secretary@downtonfc.com
END:VEVENT
BEGIN:VEVENT
DTSTART;TZID=UTC:20220307T120000
DTEND;TZID=UTC:20220308T120000
DTSTAMP:20260418T192159
CREATED:20210811T090912Z
LAST-MODIFIED:20210811T090912Z
UID:964-1646654400-1646740800@bwsca.co.uk
SUMMARY:DOWNTON LODGE MONDAY EVENING EVENT
DESCRIPTION:
URL:https://bwsca.co.uk/index.php/event/downton-lodge-monday-evening-event-6/
LOCATION:BWSCA Kitchen
END:VEVENT
BEGIN:VEVENT
DTSTART;TZID=UTC:20220226T160000
DTEND;TZID=UTC:20220226T180000
DTSTAMP:20260418T192159
CREATED:20220228T120133Z
LAST-MODIFIED:20220228T120133Z
UID:1044-1645891200-1645898400@bwsca.co.uk
SUMMARY:DFC Football Saturday match
DESCRIPTION:
URL:https://bwsca.co.uk/index.php/event/dfc-football-saturday-match/
LOCATION:BWSCA Kitchen
ORGANIZER;CN="Dawn%20%28Secretary%20DFC%29":MAILTO:secretary@downtonfc.com
END:VEVENT
BEGIN:VEVENT
DTSTART;TZID=UTC:20220219T130000
DTEND;TZID=UTC:20220219T180000
DTSTAMP:20260418T192159
CREATED:20210709T031340Z
LAST-MODIFIED:20220203T093507Z
UID:919-1645275600-1645293600@bwsca.co.uk
SUMMARY:DFC Match Div1 vs Infinity Sat 3pm
DESCRIPTION:
URL:https://bwsca.co.uk/index.php/event/dfc-match-div1-vs-infinity-sat-3pm/
LOCATION:BWSCA Kitchen
ORGANIZER;CN="Dawn%20%28Secretary%20DFC%29":MAILTO:secretary@downtonfc.com
END:VEVENT
BEGIN:VEVENT
DTSTART;TZID=UTC:20220207T120000
DTEND;TZID=UTC:20220208T120000
DTSTAMP:20260418T192159
CREATED:20210811T090836Z
LAST-MODIFIED:20210811T090836Z
UID:962-1644235200-1644321600@bwsca.co.uk
SUMMARY:DOWNTON LODGE MONDAY EVENING EVENT
DESCRIPTION:
URL:https://bwsca.co.uk/index.php/event/downton-lodge-monday-evening-event-5/
LOCATION:BWSCA Kitchen
END:VEVENT
BEGIN:VEVENT
DTSTART;TZID=UTC:20220205T130000
DTEND;TZID=UTC:20220205T180000
DTSTAMP:20260418T192159
CREATED:20210709T031300Z
LAST-MODIFIED:20210811T085434Z
UID:917-1644066000-1644084000@bwsca.co.uk
SUMMARY:DFC Match Div1 vs Whitchurch United Sat 3pm
DESCRIPTION:
URL:https://bwsca.co.uk/index.php/event/dfc-match-div1-vs-whitchurch-united-sat-3pm/
LOCATION:BWSCA Kitchen
ORGANIZER;CN="Dawn%20%28Secretary%20DFC%29":MAILTO:secretary@downtonfc.com
END:VEVENT
BEGIN:VEVENT
DTSTART;TZID=UTC:20220129T130000
DTEND;TZID=UTC:20220129T180000
DTSTAMP:20260418T192159
CREATED:20210709T031221Z
LAST-MODIFIED:20210811T085452Z
UID:915-1643461200-1643479200@bwsca.co.uk
SUMMARY:DFC Match Div1 vs Bemerton HH Sat 3pm
DESCRIPTION:
URL:https://bwsca.co.uk/index.php/event/dfc-match-div1-vs-bemerton-hh-sat-3pm/
END:VEVENT
BEGIN:VEVENT
DTSTART;TZID=UTC:20220125T113000
DTEND;TZID=UTC:20220125T143000
DTSTAMP:20260418T192159
CREATED:20220122T140828Z
LAST-MODIFIED:20220122T140828Z
UID:1041-1643110200-1643121000@bwsca.co.uk
SUMMARY:Move and Make Music
DESCRIPTION:
URL:https://bwsca.co.uk/index.php/event/move-and-make-music/
LOCATION:BWSCA Kitchen
END:VEVENT
BEGIN:VEVENT
DTSTART;TZID=UTC:20220122T173000
DTEND;TZID=UTC:20220122T230000
DTSTAMP:20260418T192159
CREATED:20220121T094258Z
LAST-MODIFIED:20220122T140741Z
UID:1039-1642872600-1642892400@bwsca.co.uk
SUMMARY:40th Birthday Party
DESCRIPTION:
URL:https://bwsca.co.uk/index.php/event/40th-birthday-party/
LOCATION:BWSCA Kitchen
END:VEVENT
BEGIN:VEVENT
DTSTART;TZID=UTC:20220121T173000
DTEND;TZID=UTC:20220121T220000
DTSTAMP:20260418T192159
CREATED:20211214T111635Z
LAST-MODIFIED:20220103T105352Z
UID:1030-1642786200-1642802400@bwsca.co.uk
SUMMARY:Downton FC Friday match
DESCRIPTION:
URL:https://bwsca.co.uk/index.php/event/downton-fc-vs-laverstock-ford-saturday/
LOCATION:BWSCA Kitchen
ORGANIZER;CN="Dawn%20%28Secretary%20DFC%29":MAILTO:secretary@downtonfc.com
END:VEVENT
BEGIN:VEVENT
DTSTART;TZID=UTC:20220110T120000
DTEND;TZID=UTC:20220111T120000
DTSTAMP:20260418T192159
CREATED:20210811T090745Z
LAST-MODIFIED:20210817T081225Z
UID:960-1641816000-1641902400@bwsca.co.uk
SUMMARY:DOWNTON LODGE MONDAY EVENING EVENT
DESCRIPTION:
URL:https://bwsca.co.uk/index.php/event/downton-lodge-monday-evening-event-4/
LOCATION:BWSCA Kitchen
END:VEVENT
BEGIN:VEVENT
DTSTART;TZID=UTC:20211227T130000
DTEND;TZID=UTC:20211227T170000
DTSTAMP:20260418T192159
CREATED:20210709T031040Z
LAST-MODIFIED:20211214T105321Z
UID:911-1640610000-1640624400@bwsca.co.uk
SUMMARY:DFC Match Div1 vs Ringwood Town Mon
DESCRIPTION:
URL:https://bwsca.co.uk/index.php/event/dfc-match-div1-vs-ringwood-town-mon-7-45pm/
LOCATION:BWSCA Kitchen
ORGANIZER;CN="Dawn%20%28Secretary%20DFC%29":MAILTO:secretary@downtonfc.com
END:VEVENT
BEGIN:VEVENT
DTSTART;TZID=UTC:20211219T140000
DTEND;TZID=UTC:20211219T170000
DTSTAMP:20260418T192159
CREATED:20211215T111658Z
LAST-MODIFIED:20211215T111658Z
UID:1032-1639922400-1639933200@bwsca.co.uk
SUMMARY:Sherwood Event - Sunday afternoon
DESCRIPTION:
URL:https://bwsca.co.uk/index.php/event/sherwood-event-sunday-afternoon/
LOCATION:BWSCA Kitchen
END:VEVENT
BEGIN:VEVENT
DTSTART;TZID=UTC:20211218T140000
DTEND;TZID=UTC:20211218T170000
DTSTAMP:20260418T192159
CREATED:20211215T125124Z
LAST-MODIFIED:20211215T125124Z
UID:1034-1639836000-1639846800@bwsca.co.uk
SUMMARY:Sherwood suite event
DESCRIPTION:
URL:https://bwsca.co.uk/index.php/event/sherwood-suite-event/
LOCATION:BWSCA Kitchen
END:VEVENT
BEGIN:VEVENT
DTSTART;TZID=UTC:20211214T130000
DTEND;TZID=UTC:20211214T170000
DTSTAMP:20260418T192159
CREATED:20211214T110304Z
LAST-MODIFIED:20211214T110304Z
UID:1028-1639486800-1639501200@bwsca.co.uk
SUMMARY:Downton FC vs Laverstock & Ford
DESCRIPTION:
URL:https://bwsca.co.uk/index.php/event/downton-fc-vs-laverstock-ford/
LOCATION:BWSCA Kitchen
ORGANIZER;CN="Dawn%20%28Secretary%20DFC%29":MAILTO:secretary@downtonfc.com
END:VEVENT
BEGIN:VEVENT
DTSTART;TZID=UTC:20211207T180000
DTEND;TZID=UTC:20211207T220000
DTSTAMP:20260418T192159
CREATED:20211206T162505Z
LAST-MODIFIED:20211206T162505Z
UID:1025-1638900000-1638914400@bwsca.co.uk
SUMMARY:Tuesday Evening Downton Football
DESCRIPTION:
URL:https://bwsca.co.uk/index.php/event/tuesday-evening-downton-football/
LOCATION:BWSCA Kitchen
ORGANIZER;CN="Dawn%20%28Secretary%20DFC%29":MAILTO:secretary@downtonfc.com
END:VEVENT
BEGIN:VEVENT
DTSTART;TZID=UTC:20211204T180000
DTEND;TZID=UTC:20211204T233000
DTSTAMP:20260418T192159
CREATED:20211201T105738Z
LAST-MODIFIED:20211201T110106Z
UID:1023-1638640800-1638660600@bwsca.co.uk
SUMMARY:Cook Party - Sherwood
DESCRIPTION:
URL:https://bwsca.co.uk/index.php/event/cook-party-sherwood/
LOCATION:BWSCA Kitchen
END:VEVENT
BEGIN:VEVENT
DTSTART;TZID=UTC:20211204T130000
DTEND;TZID=UTC:20211204T180000
DTSTAMP:20260418T192159
CREATED:20210709T030923Z
LAST-MODIFIED:20210811T085612Z
UID:909-1638622800-1638640800@bwsca.co.uk
SUMMARY:DFC Match Div1 vs Verwood Town Sat 3pm
DESCRIPTION:
URL:https://bwsca.co.uk/index.php/event/dfc-match-div1-vs-verwood-town-sat-3pm/
LOCATION:BWSCA Kitchen
ORGANIZER;CN="Dawn%20%28Secretary%20DFC%29":MAILTO:secretary@downtonfc.com
END:VEVENT
BEGIN:VEVENT
DTSTART;TZID=UTC:20211120T130000
DTEND;TZID=UTC:20211120T180000
DTSTAMP:20260418T192159
CREATED:20210709T030831Z
LAST-MODIFIED:20210811T085635Z
UID:907-1637413200-1637431200@bwsca.co.uk
SUMMARY:DFC Match Div1 vs Romsey Town Sat 3pm
DESCRIPTION:
URL:https://bwsca.co.uk/index.php/event/dfc-match-div1-vs-romsey-town-sat-3pm/
LOCATION:BWSCA Kitchen
ORGANIZER;CN="Dawn%20%28Secretary%20DFC%29":MAILTO:secretary@downtonfc.com
END:VEVENT
BEGIN:VEVENT
DTSTART;TZID=UTC:20211119T130000
DTEND;TZID=UTC:20211119T210000
DTSTAMP:20260418T192159
CREATED:20210913T102817Z
LAST-MODIFIED:20210913T102817Z
UID:999-1637326800-1637355600@bwsca.co.uk
SUMMARY:Downton Bowls Club Presentation Evening
DESCRIPTION:
URL:https://bwsca.co.uk/index.php/event/downton-bowls-club-presentation-evening/
LOCATION:BWSCA Kitchen
ORGANIZER;CN="Paul%20Bromage":MAILTO:pbromage40@gmail.com
END:VEVENT
BEGIN:VEVENT
DTSTART;TZID=UTC:20211116T170000
DTEND;TZID=UTC:20211116T223000
DTSTAMP:20260418T192159
CREATED:20211101T094903Z
LAST-MODIFIED:20211101T094903Z
UID:1020-1637082000-1637101800@bwsca.co.uk
SUMMARY:DFC - Tuesday 16 November Evening Football
DESCRIPTION:
URL:https://bwsca.co.uk/index.php/event/dfc-tuesday-16-november-evening-football/
LOCATION:BWSCA Kitchen
ORGANIZER;CN="Dawn%20%28Secretary%20DFC%29":MAILTO:secretary@downtonfc.com
END:VEVENT
BEGIN:VEVENT
DTSTART;TZID=UTC:20211111T180000
DTEND;TZID=UTC:20211111T213000
DTSTAMP:20260418T192159
CREATED:20210913T102642Z
LAST-MODIFIED:20210913T102642Z
UID:997-1636653600-1636666200@bwsca.co.uk
SUMMARY:Downton Link AGM
DESCRIPTION:
URL:https://bwsca.co.uk/index.php/event/downton-link-agm/
LOCATION:BWSCA Kitchen
END:VEVENT
BEGIN:VEVENT
DTSTART;TZID=UTC:20211106T130000
DTEND;TZID=UTC:20211106T180000
DTSTAMP:20260418T192159
CREATED:20210709T030733Z
LAST-MODIFIED:20210811T085708Z
UID:905-1636203600-1636221600@bwsca.co.uk
SUMMARY:DFC Match Div1 vs Millbrook Sat 3pm
DESCRIPTION:
URL:https://bwsca.co.uk/index.php/event/dfc-match-div1-vs-millbrook-sat-3pm/
LOCATION:BWSCA Kitchen
ORGANIZER;CN="Dawn%20%28Secretary%20DFC%29":MAILTO:secretary@downtonfc.com
END:VEVENT
BEGIN:VEVENT
DTSTART;TZID=UTC:20211101T120000
DTEND;TZID=UTC:20211102T120000
DTSTAMP:20260418T192159
CREATED:20210803T134009Z
LAST-MODIFIED:20210806T150725Z
UID:951-1635768000-1635854400@bwsca.co.uk
SUMMARY:Downton Lodge Monday Evening Event
DESCRIPTION:
URL:https://bwsca.co.uk/index.php/event/downton-lodge-monday-evening-event-2/
LOCATION:BWSCA Kitchen
END:VEVENT
BEGIN:VEVENT
DTSTART;TZID=UTC:20211023T130000
DTEND;TZID=UTC:20211023T180000
DTSTAMP:20260418T192159
CREATED:20210709T030656Z
LAST-MODIFIED:20210811T085731Z
UID:903-1634994000-1635012000@bwsca.co.uk
SUMMARY:DFC Match Div1 vs Laverstock Ford Sat 3pm
DESCRIPTION:
URL:https://bwsca.co.uk/index.php/event/dfc-match-div1-vs-laverstock-ford-sat-3pm/
LOCATION:BWSCA Kitchen
ORGANIZER;CN="Dawn%20%28Secretary%20DFC%29":MAILTO:secretary@downtonfc.com
END:VEVENT
BEGIN:VEVENT
DTSTART;TZID=UTC:20211012T173000
DTEND;TZID=UTC:20211012T230000
DTSTAMP:20260418T192159
CREATED:20211010T140922Z
LAST-MODIFIED:20211010T140922Z
UID:1014-1634059800-1634079600@bwsca.co.uk
SUMMARY:DFC Tue Football Evening Match
DESCRIPTION:
URL:https://bwsca.co.uk/index.php/event/dfc-tue-football-evening-match/
LOCATION:BWSCA Kitchen
ORGANIZER;CN="Dawn%20%28Secretary%20DFC%29":MAILTO:secretary@downtonfc.com
END:VEVENT
BEGIN:VEVENT
DTSTART;TZID=UTC:20211009T130000
DTEND;TZID=UTC:20211009T180000
DTSTAMP:20260418T192159
CREATED:20210709T030609Z
LAST-MODIFIED:20210811T085751Z
UID:901-1633784400-1633802400@bwsca.co.uk
SUMMARY:DFC Match Div1 vs Petersfield Town Sat 3pm
DESCRIPTION:
URL:https://bwsca.co.uk/index.php/event/dfc-match-div1-vs-petersfield-town-sat-3pm/
LOCATION:BWSCA Kitchen
ORGANIZER;CN="Dawn%20%28Secretary%20DFC%29":MAILTO:secretary@downtonfc.com
END:VEVENT
END:VCALENDAR