BEGIN:VCALENDAR
VERSION:2.0
PRODID:-//Downton Sports Complex - ECPv5.16.4//NONSGML v1.0//EN
CALSCALE:GREGORIAN
METHOD:PUBLISH
X-WR-CALNAME:Downton Sports Complex
X-ORIGINAL-URL:https://bwsca.co.uk
X-WR-CALDESC:Events for Downton Sports Complex
REFRESH-INTERVAL;VALUE=DURATION:PT1H
X-Robots-Tag:noindex
X-PUBLISHED-TTL:PT1H
BEGIN:VTIMEZONE
TZID:UTC
BEGIN:STANDARD
TZOFFSETFROM:+0000
TZOFFSETTO:+0000
TZNAME:UTC
DTSTART:20220101T000000
END:STANDARD
END:VTIMEZONE
BEGIN:VEVENT
DTSTART;TZID=UTC:20231204T120000
DTEND;TZID=UTC:20231205T120000
DTSTAMP:20260422T221915
CREATED:20220905T101139Z
LAST-MODIFIED:20220905T101139Z
UID:1146-1701691200-1701777600@bwsca.co.uk
SUMMARY:DOWNTON LODGE MONDAY EVENING EVENT
DESCRIPTION:
URL:https://bwsca.co.uk/index.php/event/downton-lodge-monday-evening-event-20/
LOCATION:BWSCA Kitchen
END:VEVENT
BEGIN:VEVENT
DTSTART;TZID=UTC:20231106T120000
DTEND;TZID=UTC:20231107T120000
DTSTAMP:20260422T221915
CREATED:20220905T101051Z
LAST-MODIFIED:20220905T101051Z
UID:1144-1699272000-1699358400@bwsca.co.uk
SUMMARY:DOWNTON LODGE MONDAY EVENING EVENT
DESCRIPTION:
URL:https://bwsca.co.uk/index.php/event/downton-lodge-monday-evening-event-19/
LOCATION:BWSCA Kitchen
END:VEVENT
BEGIN:VEVENT
DTSTART;TZID=UTC:20231002T120000
DTEND;TZID=UTC:20231003T120000
DTSTAMP:20260422T221915
CREATED:20220905T100940Z
LAST-MODIFIED:20220905T100940Z
UID:1142-1696248000-1696334400@bwsca.co.uk
SUMMARY:DOWNTON LODGE MONDAY EVENING EVENT
DESCRIPTION:
URL:https://bwsca.co.uk/index.php/event/downton-lodge-monday-evening-event-18/
LOCATION:BWSCA Kitchen
END:VEVENT
BEGIN:VEVENT
DTSTART;TZID=UTC:20230904T120000
DTEND;TZID=UTC:20230905T120000
DTSTAMP:20260422T221915
CREATED:20220905T100833Z
LAST-MODIFIED:20220905T100833Z
UID:1140-1693828800-1693915200@bwsca.co.uk
SUMMARY:DOWNTON LODGE MONDAY EVENING EVENT
DESCRIPTION:
URL:https://bwsca.co.uk/index.php/event/downton-lodge-monday-evening-event-17/
LOCATION:BWSCA Kitchen
END:VEVENT
BEGIN:VEVENT
DTSTART;TZID=UTC:20230508T120000
DTEND;TZID=UTC:20230509T120000
DTSTAMP:20260422T221915
CREATED:20220905T100730Z
LAST-MODIFIED:20220905T100730Z
UID:1138-1683547200-1683633600@bwsca.co.uk
SUMMARY:DOWNTON LODGE MONDAY EVENING EVENT
DESCRIPTION:
URL:https://bwsca.co.uk/index.php/event/downton-lodge-monday-evening-event-16/
LOCATION:BWSCA Kitchen
END:VEVENT
BEGIN:VEVENT
DTSTART;TZID=UTC:20230422T180000
DTEND;TZID=UTC:20230423T120000
DTSTAMP:20260422T221915
CREATED:20220905T100618Z
LAST-MODIFIED:20220905T100618Z
UID:1136-1682186400-1682251200@bwsca.co.uk
SUMMARY:DOWNTON LODGE SATURDAY EVENING EVENT
DESCRIPTION:After 6pm to allow Football Club to use the Kitchen before\, if needed.
URL:https://bwsca.co.uk/index.php/event/downton-lodge-saturday-evening-event-2/
LOCATION:BWSCA Kitchen
END:VEVENT
BEGIN:VEVENT
DTSTART;TZID=UTC:20230415T130000
DTEND;TZID=UTC:20230415T180000
DTSTAMP:20260422T221915
CREATED:20220811T120513Z
LAST-MODIFIED:20220811T120513Z
UID:1121-1681563600-1681581600@bwsca.co.uk
SUMMARY:Football Club - Match
DESCRIPTION:
URL:https://bwsca.co.uk/index.php/event/football-club-match-20/
LOCATION:BWSCA Kitchen
ORGANIZER;CN="Dawn%20%28Secretary%20DFC%29":MAILTO:secretary@downtonfc.com
END:VEVENT
BEGIN:VEVENT
DTSTART;TZID=UTC:20230403T120000
DTEND;TZID=UTC:20230404T120000
DTSTAMP:20260422T221915
CREATED:20220905T100432Z
LAST-MODIFIED:20220905T100432Z
UID:1134-1680523200-1680609600@bwsca.co.uk
SUMMARY:DOWNTON LODGE MONDAY EVENING EVENT
DESCRIPTION:
URL:https://bwsca.co.uk/index.php/event/downton-lodge-monday-evening-event-15/
LOCATION:BWSCA Kitchen
END:VEVENT
BEGIN:VEVENT
DTSTART;TZID=UTC:20230318T130000
DTEND;TZID=UTC:20230318T180000
DTSTAMP:20260422T221915
CREATED:20220811T120428Z
LAST-MODIFIED:20220811T120428Z
UID:1119-1679144400-1679162400@bwsca.co.uk
SUMMARY:Football Club - Match
DESCRIPTION:
URL:https://bwsca.co.uk/index.php/event/football-club-match-19/
LOCATION:BWSCA Kitchen
ORGANIZER;CN="Dawn%20%28Secretary%20DFC%29":MAILTO:secretary@downtonfc.com
END:VEVENT
BEGIN:VEVENT
DTSTART;TZID=UTC:20230306T120000
DTEND;TZID=UTC:20230307T120000
DTSTAMP:20260422T221915
CREATED:20220905T100339Z
LAST-MODIFIED:20220905T100339Z
UID:1132-1678104000-1678190400@bwsca.co.uk
SUMMARY:DOWNTON LODGE MONDAY EVENING EVENT
DESCRIPTION:
URL:https://bwsca.co.uk/index.php/event/downton-lodge-monday-evening-event-14/
LOCATION:BWSCA Kitchen
END:VEVENT
BEGIN:VEVENT
DTSTART;TZID=UTC:20230221T180000
DTEND;TZID=UTC:20230221T220000
DTSTAMP:20260422T221915
CREATED:20220811T120343Z
LAST-MODIFIED:20220811T120343Z
UID:1117-1677002400-1677016800@bwsca.co.uk
SUMMARY:Football Club - Match
DESCRIPTION:
URL:https://bwsca.co.uk/index.php/event/football-club-match-18/
LOCATION:BWSCA Kitchen
ORGANIZER;CN="Dawn%20%28Secretary%20DFC%29":MAILTO:secretary@downtonfc.com
END:VEVENT
BEGIN:VEVENT
DTSTART;TZID=UTC:20230211T130000
DTEND;TZID=UTC:20230211T180000
DTSTAMP:20260422T221915
CREATED:20220811T120259Z
LAST-MODIFIED:20220811T120259Z
UID:1115-1676120400-1676138400@bwsca.co.uk
SUMMARY:Football Club - Match
DESCRIPTION:
URL:https://bwsca.co.uk/index.php/event/football-club-match-17/
LOCATION:BWSCA Kitchen
ORGANIZER;CN="Dawn%20%28Secretary%20DFC%29":MAILTO:secretary@downtonfc.com
END:VEVENT
BEGIN:VEVENT
DTSTART;TZID=UTC:20230206T120000
DTEND;TZID=UTC:20230207T120000
DTSTAMP:20260422T221915
CREATED:20220905T100226Z
LAST-MODIFIED:20220905T100226Z
UID:1130-1675684800-1675771200@bwsca.co.uk
SUMMARY:DOWNTON LODGE MONDAY EVENING EVENT
DESCRIPTION:
URL:https://bwsca.co.uk/index.php/event/downton-lodge-monday-evening-event-3/
LOCATION:BWSCA Kitchen
END:VEVENT
BEGIN:VEVENT
DTSTART;TZID=UTC:20230204T130000
DTEND;TZID=UTC:20230204T180000
DTSTAMP:20260422T221915
CREATED:20220811T120216Z
LAST-MODIFIED:20220811T120216Z
UID:1113-1675515600-1675533600@bwsca.co.uk
SUMMARY:Football Club - Match
DESCRIPTION:
URL:https://bwsca.co.uk/index.php/event/football-club-match-16/
LOCATION:BWSCA Kitchen
ORGANIZER;CN="Dawn%20%28Secretary%20DFC%29":MAILTO:secretary@downtonfc.com
END:VEVENT
BEGIN:VEVENT
DTSTART;TZID=UTC:20230121T130000
DTEND;TZID=UTC:20230121T180000
DTSTAMP:20260422T221915
CREATED:20220811T120138Z
LAST-MODIFIED:20220811T120138Z
UID:1111-1674306000-1674324000@bwsca.co.uk
SUMMARY:Football Club - Match
DESCRIPTION:
URL:https://bwsca.co.uk/index.php/event/football-club-match-15/
LOCATION:BWSCA Kitchen
ORGANIZER;CN="Dawn%20%28Secretary%20DFC%29":MAILTO:secretary@downtonfc.com
END:VEVENT
BEGIN:VEVENT
DTSTART;TZID=UTC:20230109T120000
DTEND;TZID=UTC:20230110T120000
DTSTAMP:20260422T221915
CREATED:20210811T091402Z
LAST-MODIFIED:20210811T091402Z
UID:978-1673265600-1673352000@bwsca.co.uk
SUMMARY:DOWNTON LODGE MONDAY EVENING EVENT
DESCRIPTION:
URL:https://bwsca.co.uk/index.php/event/downton-lodge-monday-evening-event-13/
LOCATION:BWSCA Kitchen
END:VEVENT
BEGIN:VEVENT
DTSTART;TZID=UTC:20230103T180000
DTEND;TZID=UTC:20230103T220000
DTSTAMP:20260422T221915
CREATED:20220811T120059Z
LAST-MODIFIED:20220811T120059Z
UID:1109-1672768800-1672783200@bwsca.co.uk
SUMMARY:Football Club - Match
DESCRIPTION:
URL:https://bwsca.co.uk/index.php/event/football-club-match-14/
LOCATION:BWSCA Kitchen
ORGANIZER;CN="Dawn%20%28Secretary%20DFC%29":MAILTO:secretary@downtonfc.com
END:VEVENT
BEGIN:VEVENT
DTSTART;TZID=UTC:20221217T130000
DTEND;TZID=UTC:20221217T180000
DTSTAMP:20260422T221915
CREATED:20220811T120003Z
LAST-MODIFIED:20220811T120003Z
UID:1107-1671282000-1671300000@bwsca.co.uk
SUMMARY:Football Club - Match
DESCRIPTION:
URL:https://bwsca.co.uk/index.php/event/football-club-match-13/
LOCATION:BWSCA Kitchen
ORGANIZER;CN="Dawn%20%28Secretary%20DFC%29":MAILTO:secretary@downtonfc.com
END:VEVENT
BEGIN:VEVENT
DTSTART;TZID=UTC:20221205T120000
DTEND;TZID=UTC:20221206T120000
DTSTAMP:20260422T221915
CREATED:20210811T091323Z
LAST-MODIFIED:20210811T091323Z
UID:976-1670241600-1670328000@bwsca.co.uk
SUMMARY:DOWNTON LODGE MONDAY EVENING EVENT
DESCRIPTION:
URL:https://bwsca.co.uk/index.php/event/downton-lodge-monday-evening-event-12/
LOCATION:BWSCA Kitchen
END:VEVENT
BEGIN:VEVENT
DTSTART;TZID=UTC:20221203T130000
DTEND;TZID=UTC:20221203T180000
DTSTAMP:20260422T221915
CREATED:20220811T115918Z
LAST-MODIFIED:20220811T115918Z
UID:1105-1670072400-1670090400@bwsca.co.uk
SUMMARY:Football Club - Match
DESCRIPTION:
URL:https://bwsca.co.uk/index.php/event/football-club-match-12/
LOCATION:BWSCA Kitchen
ORGANIZER;CN="Dawn%20%28Secretary%20DFC%29":MAILTO:secretary@downtonfc.com
END:VEVENT
BEGIN:VEVENT
DTSTART;TZID=UTC:20221119T130000
DTEND;TZID=UTC:20221119T180000
DTSTAMP:20260422T221915
CREATED:20220811T115829Z
LAST-MODIFIED:20220811T115829Z
UID:1103-1668862800-1668880800@bwsca.co.uk
SUMMARY:Football Club - Match
DESCRIPTION:
URL:https://bwsca.co.uk/index.php/event/football-club-match-11/
LOCATION:BWSCA Kitchen
ORGANIZER;CN="Dawn%20%28Secretary%20DFC%29":MAILTO:secretary@downtonfc.com
END:VEVENT
BEGIN:VEVENT
DTSTART;TZID=UTC:20221112T130000
DTEND;TZID=UTC:20221112T180000
DTSTAMP:20260422T221915
CREATED:20220811T115740Z
LAST-MODIFIED:20220811T115740Z
UID:1101-1668258000-1668276000@bwsca.co.uk
SUMMARY:Football Club - Match
DESCRIPTION:
URL:https://bwsca.co.uk/index.php/event/football-club-match-10/
LOCATION:BWSCA Kitchen
ORGANIZER;CN="Dawn%20%28Secretary%20DFC%29":MAILTO:secretary@downtonfc.com
END:VEVENT
BEGIN:VEVENT
DTSTART;TZID=UTC:20221107T120000
DTEND;TZID=UTC:20221108T120000
DTSTAMP:20260422T221915
CREATED:20210811T091245Z
LAST-MODIFIED:20210811T091245Z
UID:974-1667822400-1667908800@bwsca.co.uk
SUMMARY:DOWNTON LODGE MONDAY EVENING EVENT
DESCRIPTION:
URL:https://bwsca.co.uk/index.php/event/downton-lodge-monday-evening-event-11/
LOCATION:BWSCA Kitchen
END:VEVENT
BEGIN:VEVENT
DTSTART;TZID=UTC:20221029T130000
DTEND;TZID=UTC:20221029T180000
DTSTAMP:20260422T221915
CREATED:20220811T115700Z
LAST-MODIFIED:20220811T115700Z
UID:1099-1667048400-1667066400@bwsca.co.uk
SUMMARY:Football Club - Match
DESCRIPTION:
URL:https://bwsca.co.uk/index.php/event/football-club-match-9/
LOCATION:BWSCA Kitchen
ORGANIZER;CN="Dawn%20%28Secretary%20DFC%29":MAILTO:secretary@downtonfc.com
END:VEVENT
BEGIN:VEVENT
DTSTART;TZID=UTC:20221022T130000
DTEND;TZID=UTC:20221022T180000
DTSTAMP:20260422T221915
CREATED:20220811T115617Z
LAST-MODIFIED:20220811T115617Z
UID:1097-1666443600-1666461600@bwsca.co.uk
SUMMARY:Football Club - Match
DESCRIPTION:
URL:https://bwsca.co.uk/index.php/event/football-club-match-8/
LOCATION:BWSCA Kitchen
ORGANIZER;CN="Dawn%20%28Secretary%20DFC%29":MAILTO:secretary@downtonfc.com
END:VEVENT
BEGIN:VEVENT
DTSTART;TZID=UTC:20221008T180000
DTEND;TZID=UTC:20221009T120000
DTSTAMP:20260422T221915
CREATED:20220905T100101Z
LAST-MODIFIED:20220905T100101Z
UID:1127-1665252000-1665316800@bwsca.co.uk
SUMMARY:DOWNTON LODGE SATURDAY EVENING EVENT
DESCRIPTION:After 6pm to allow Football Club to finish
URL:https://bwsca.co.uk/index.php/event/downton-lodge-saturday-evening-event/
LOCATION:BWSCA Kitchen
END:VEVENT
BEGIN:VEVENT
DTSTART;TZID=UTC:20221008T130000
DTEND;TZID=UTC:20221008T180000
DTSTAMP:20260422T221915
CREATED:20220811T115537Z
LAST-MODIFIED:20220811T115537Z
UID:1095-1665234000-1665252000@bwsca.co.uk
SUMMARY:Football Club - Match
DESCRIPTION:
URL:https://bwsca.co.uk/index.php/event/football-club-match-7/
LOCATION:BWSCA Kitchen
ORGANIZER;CN="Dawn%20%28Secretary%20DFC%29":MAILTO:secretary@downtonfc.com
END:VEVENT
BEGIN:VEVENT
DTSTART;TZID=UTC:20221004T180000
DTEND;TZID=UTC:20221004T220000
DTSTAMP:20260422T221915
CREATED:20220811T115458Z
LAST-MODIFIED:20220811T115458Z
UID:1093-1664906400-1664920800@bwsca.co.uk
SUMMARY:Football Club - Match
DESCRIPTION:
URL:https://bwsca.co.uk/index.php/event/football-club-match-6/
LOCATION:BWSCA Kitchen
ORGANIZER;CN="Dawn%20%28Secretary%20DFC%29":MAILTO:secretary@downtonfc.com
END:VEVENT
BEGIN:VEVENT
DTSTART;TZID=UTC:20221003T120000
DTEND;TZID=UTC:20221004T120000
DTSTAMP:20260422T221915
CREATED:20210811T091208Z
LAST-MODIFIED:20210811T091208Z
UID:972-1664798400-1664884800@bwsca.co.uk
SUMMARY:DOWNTON LODGE MONDAY EVENING EVENT
DESCRIPTION:
URL:https://bwsca.co.uk/index.php/event/downton-lodge-monday-evening-event-10/
LOCATION:BWSCA Kitchen
END:VEVENT
BEGIN:VEVENT
DTSTART;TZID=UTC:20221002T120000
DTEND;TZID=UTC:20221002T190000
DTSTAMP:20260422T221915
CREATED:20220524T172859Z
LAST-MODIFIED:20220524T172925Z
UID:1066-1664712000-1664737200@bwsca.co.uk
SUMMARY:Provisional to be confirmed
DESCRIPTION:Please could we make a reservation for the Kitchen on the above date and for the times shown?  Whilst catering arrangement have yet to be finalised\, I am aware that a meal is proposed.  Once I have details and met with the hirer on site\, I will let you know more. \nKind regards. \nAndy
URL:https://bwsca.co.uk/index.php/event/provisional-to-be-confirmed/
LOCATION:BWSCA Kitchen
END:VEVENT
END:VCALENDAR