BEGIN:VCALENDAR
VERSION:2.0
PRODID:-//Downton Sports Complex - ECPv5.16.4//NONSGML v1.0//EN
CALSCALE:GREGORIAN
METHOD:PUBLISH
X-ORIGINAL-URL:https://bwsca.co.uk
X-WR-CALDESC:Events for Downton Sports Complex
REFRESH-INTERVAL;VALUE=DURATION:PT1H
X-Robots-Tag:noindex
X-PUBLISHED-TTL:PT1H
BEGIN:VTIMEZONE
TZID:UTC
BEGIN:STANDARD
TZOFFSETFROM:+0000
TZOFFSETTO:+0000
TZNAME:UTC
DTSTART:20220101T000000
END:STANDARD
END:VTIMEZONE
BEGIN:VEVENT
DTSTART;TZID=UTC:20220704T090000
DTEND;TZID=UTC:20220704T220000
DTSTAMP:20260426T011400
CREATED:20220628T145315Z
LAST-MODIFIED:20220628T145315Z
UID:1072-1656925200-1656972000@bwsca.co.uk
SUMMARY:Bowls Club Event
DESCRIPTION:Please could I book the kitchen on behalf of the Bowls Club on the above date.  They are hosting a county bowls match between Somerset and IOW.\nThey have suggested that they will require access to the kitchen from 09:30 on the day.  The match commences at 1pm but they are expecting their visitors to arrive any time after 11:00.
URL:https://bwsca.co.uk/index.php/event/bowls-club-event/
LOCATION:BWSCA Kitchen
END:VEVENT
END:VCALENDAR